BEGIN:VCALENDAR
VERSION:2.0
PRODID:-//The Dudley Farm - ECPv6.15.20//NONSGML v1.0//EN
CALSCALE:GREGORIAN
METHOD:PUBLISH
X-WR-CALNAME:The Dudley Farm
X-ORIGINAL-URL:https://dudleyfarm.com
X-WR-CALDESC:Events for The Dudley Farm
REFRESH-INTERVAL;VALUE=DURATION:PT1H
X-Robots-Tag:noindex
X-PUBLISHED-TTL:PT1H
BEGIN:VTIMEZONE
TZID:America/New_York
BEGIN:DAYLIGHT
TZOFFSETFROM:-0500
TZOFFSETTO:-0400
TZNAME:EDT
DTSTART:20250309T070000
END:DAYLIGHT
BEGIN:STANDARD
TZOFFSETFROM:-0400
TZOFFSETTO:-0500
TZNAME:EST
DTSTART:20251102T060000
END:STANDARD
BEGIN:DAYLIGHT
TZOFFSETFROM:-0500
TZOFFSETTO:-0400
TZNAME:EDT
DTSTART:20260308T070000
END:DAYLIGHT
BEGIN:STANDARD
TZOFFSETFROM:-0400
TZOFFSETTO:-0500
TZNAME:EST
DTSTART:20261101T060000
END:STANDARD
BEGIN:DAYLIGHT
TZOFFSETFROM:-0500
TZOFFSETTO:-0400
TZNAME:EDT
DTSTART:20270314T070000
END:DAYLIGHT
BEGIN:STANDARD
TZOFFSETFROM:-0400
TZOFFSETTO:-0500
TZNAME:EST
DTSTART:20271107T060000
END:STANDARD
END:VTIMEZONE
BEGIN:VEVENT
DTSTART;TZID=America/New_York:20260503T100000
DTEND;TZID=America/New_York:20260503T140000
DTSTAMP:20260422T064317
CREATED:20240415T225214Z
LAST-MODIFIED:20260120T190201Z
UID:6112-1777802400-1777816800@dudleyfarm.com
SUMMARY:Community Tag Sale
DESCRIPTION:Peruse interesting items offered by 20-plus local vendors or book a spot and pass along your own treasures at our annual community tag sale. Hot dogs\, music\, and fellowship add to the good times. \nTo rent a spot ($20) contact Jerri at 203-457-0047 \nSunday May 3\, 2026  10am – 2pm \n  \nRAIN DATE:  May 10th
URL:https://dudleyfarm.com/event/community-tag-sale/
LOCATION:Dudley Farm\, 2351 Durham Road\, Guilford\, CT\, 06437\, United States
CATEGORIES:Tag Sale
ATTACH;FMTTYPE=image/jpeg:https://dudleyfarm.com/wp-content/uploads/2024/04/Tag-Sale-2024-scaled.jpeg
END:VEVENT
BEGIN:VEVENT
DTSTART;TZID=America/New_York:20260521T110000
DTEND;TZID=America/New_York:20260521T120000
DTSTAMP:20260422T064317
CREATED:20260419T151324Z
LAST-MODIFIED:20260419T152937Z
UID:10049-1779361200-1779364800@dudleyfarm.com
SUMMARY:History Discussion Group--An Indigenous Peoples’ History of the United States
DESCRIPTION:Event:  History Discussion Group \n  \nDates:  4 week series\, Thursdays 11-12 in yellow Munger Barn \nMay 21\, 28\, June 4\, 11 \n  \nDescription: Book club discussion of Roxanne Dunbar-Ortiz An Indigenous Peoples’ History of the United States \n  \nRegister: Free and open to all but please register below.
URL:https://dudleyfarm.com/event/history-discussion-group-an-indigenous-peoples-history-of-the-united-states/
LOCATION:Munger Barn\, 2351 Durham Road\, Guilford\, CT\, 06437\, United States
CATEGORIES:History
ATTACH;FMTTYPE=image/jpeg:https://dudleyfarm.com/wp-content/uploads/2026/04/History-of-US.jpeg
END:VEVENT
BEGIN:VEVENT
DTSTART;TZID=America/New_York:20260528T110000
DTEND;TZID=America/New_York:20260528T120000
DTSTAMP:20260422T064317
CREATED:20260419T152044Z
LAST-MODIFIED:20260419T152859Z
UID:10053-1779966000-1779969600@dudleyfarm.com
SUMMARY:History Discussion Group--An Indigenous Peoples’ History of the United States
DESCRIPTION:Event:  History Discussion Group \n  \nDates:  4 week series\, Thursdays 11-12 in yellow Munger Barn \nMay 21\, 28\, June 4\, 11 \n  \nDescription: Book club discussion of Roxanne Dunbar-Ortiz An Indigenous Peoples’ History of the United States \n  \nRegister: Free and open to all but please register below.
URL:https://dudleyfarm.com/event/history-discussion-group-an-indigenous-peoples-history-of-the-united-states-2/
LOCATION:Munger Barn\, 2351 Durham Road\, Guilford\, CT\, 06437\, United States
CATEGORIES:History
ATTACH;FMTTYPE=image/jpeg:https://dudleyfarm.com/wp-content/uploads/2026/04/History-of-US.jpeg
END:VEVENT
BEGIN:VEVENT
DTSTART;TZID=America/New_York:20260530T140000
DTEND;TZID=America/New_York:20260530T160000
DTSTAMP:20260422T064317
CREATED:20260129T151123Z
LAST-MODIFIED:20260129T151123Z
UID:9667-1780149600-1780156800@dudleyfarm.com
SUMMARY:Foraging & Fermenting Class
DESCRIPTION:Foraging & Fermenting Class \nSaturday\, May 30th \n2-4 PM \nTickets $40 \nREGISTER HERE \n  \nJoin us Saturday\, May 30th at 2 PM at Dudley Farm for a class on Foraging and Fermenting. CT Foraging Club founder Amy Demers and forager & chef Vinny Crotta will be co-teaching this class. \nParticipants will learn how to positively identify edible and medicinal plants and mushrooms that could be found this time of year. You will also learn how to use wild species in fermentation. We will walk the grounds to practice plant and mushroom ID. Participants will then have an opportunity to make their own wild ferments to bring home. \nFee is $40 per person\, with 20% donated to the Dudley Foundation. You will be emailed further details the day before the class. \nWe will run the class rain or shine. If it is raining\, we will hold the lecture portion and ferment making portion indoors at the barn at Dudley Farm.
URL:https://dudleyfarm.com/event/foraging-fermenting-class/
ATTACH;FMTTYPE=image/jpeg:https://dudleyfarm.com/wp-content/uploads/2026/01/Foraging-2026.jpeg
END:VEVENT
BEGIN:VEVENT
DTSTART;TZID=America/New_York:20260604T110000
DTEND;TZID=America/New_York:20260604T120000
DTSTAMP:20260422T064317
CREATED:20260419T152412Z
LAST-MODIFIED:20260419T222518Z
UID:10056-1780570800-1780574400@dudleyfarm.com
SUMMARY:History Discussion Group--An Indigenous Peoples’ History of the United States
DESCRIPTION:Event:  History Discussion Group \n  \nDates:  4 week series\, Thursdays 11-12 in yellow Munger Barn \nMay 21\, 28\, June 4\, 11 \n  \nDescription: Book club discussion of Roxanne Dunbar-Ortiz An Indigenous Peoples’ History of the United States \n  \nRegister: Free and open to all but please register below.
URL:https://dudleyfarm.com/event/history-discussion-group-an-indigenous-peoples-history-of-the-united-states-3/
LOCATION:Munger Barn\, 2351 Durham Road\, Guilford\, CT\, 06437\, United States
CATEGORIES:History
ATTACH;FMTTYPE=image/jpeg:https://dudleyfarm.com/wp-content/uploads/2026/04/History-of-US.jpeg
END:VEVENT
BEGIN:VEVENT
DTSTART;TZID=America/New_York:20260606T093000
DTEND;TZID=America/New_York:20260606T123000
DTSTAMP:20260422T064317
CREATED:20260419T144844Z
LAST-MODIFIED:20260419T144844Z
UID:10033-1780738200-1780749000@dudleyfarm.com
SUMMARY:Historic Craft Demos Dudley Farm Summer 2026--Butter Churning Demonstration
DESCRIPTION:Historic Craft Demos Dudley Farm Summer 2026 \nJune 6 \, 9:30-12:30 Butter Churning Demonstration \nIn the nineteenth century\, most fresh milk was preserved as butter.  Come try your hand at making butter and taste freshly churned samples.
URL:https://dudleyfarm.com/event/historic-craft-demos-dudley-farm-summer-2026-butter-churning-demonstration/
LOCATION:Dudley Farm\, 2351 Durham Road\, Guilford\, CT\, 06437\, United States
END:VEVENT
BEGIN:VEVENT
DTSTART;TZID=America/New_York:20260611T110000
DTEND;TZID=America/New_York:20260611T120000
DTSTAMP:20260422T064317
CREATED:20260419T152616Z
LAST-MODIFIED:20260419T222610Z
UID:10059-1781175600-1781179200@dudleyfarm.com
SUMMARY:History Discussion Group--An Indigenous Peoples’ History of the United States
DESCRIPTION:Event:  History Discussion Group \n  \nDates:  4 week series\, Thursdays 11-12 in yellow Munger Barn \nMay 21\, 28\, June 4\, 11 \n  \nDescription: Book club discussion of Roxanne Dunbar-Ortiz An Indigenous Peoples’ History of the United States \n  \nRegister: Free and open to all but please register below.
URL:https://dudleyfarm.com/event/history-discussion-group-an-indigenous-peoples-history-of-the-united-states-4/
CATEGORIES:History
ATTACH;FMTTYPE=image/jpeg:https://dudleyfarm.com/wp-content/uploads/2026/04/History-of-US.jpeg
END:VEVENT
BEGIN:VEVENT
DTSTART;TZID=America/New_York:20260613T093000
DTEND;TZID=America/New_York:20260613T123000
DTSTAMP:20260422T064317
CREATED:20260419T145321Z
LAST-MODIFIED:20260419T145321Z
UID:10035-1781343000-1781353800@dudleyfarm.com
SUMMARY:Historic Craft Demos Dudley Farm Summer 2026--Bobbin Lacemaking Demonstration
DESCRIPTION:June 13\, 9:30-12:30 Bobbin Lacemaking Demonstration \nCome see members of the New England Lace Group demonstrate how they make complex designs as their bobbins click and clack.
URL:https://dudleyfarm.com/event/historic-craft-demos-dudley-farm-summer-2026-bobbin-lacemaking-demonstration/
LOCATION:Dudley Farm\, 2351 Durham Road\, Guilford\, CT\, 06437\, United States
END:VEVENT
BEGIN:VEVENT
DTSTART;TZID=America/New_York:20260620T093000
DTEND;TZID=America/New_York:20260620T123000
DTSTAMP:20260422T064317
CREATED:20260419T145453Z
LAST-MODIFIED:20260419T145453Z
UID:10037-1781947800-1781958600@dudleyfarm.com
SUMMARY:Historic Craft Demos Dudley Farm Summer 2026--Buggy\, Wagon and Sleigh Exhibit
DESCRIPTION:June 20\, 9:30-12:30 Buggy\, Wagon and Sleigh Exhibit \nOur collection of market wagons\, farm wagons\, buggies and a sleigh will be on display. Our knowledgeable docents will explain how they were used.
URL:https://dudleyfarm.com/event/historic-craft-demos-dudley-farm-summer-2026-buggy-wagon-and-sleigh-exhibit/
END:VEVENT
BEGIN:VEVENT
DTSTART;TZID=America/New_York:20260627T093000
DTEND;TZID=America/New_York:20260627T123000
DTSTAMP:20260422T064317
CREATED:20260419T145642Z
LAST-MODIFIED:20260419T145642Z
UID:10039-1782552600-1782563400@dudleyfarm.com
SUMMARY:Historic Craft Demos Dudley Farm Summer 2026--Threshing and Winnowing Demonstration
DESCRIPTION:June 27\, 9:30-12:30  Threshing and Winnowing Demonstration \nWe’ll process the recent harvest of winter rye with antique equipment.  Come watch and taste freshly ground flour and crackers.
URL:https://dudleyfarm.com/event/historic-craft-demos-dudley-farm-summer-2026-threshing-and-winnowing-demonstration/
LOCATION:Dudley Farm\, 2351 Durham Road\, Guilford\, CT\, 06437\, United States
END:VEVENT
BEGIN:VEVENT
DTSTART;TZID=America/New_York:20260704T093000
DTEND;TZID=America/New_York:20260704T123000
DTSTAMP:20260422T064317
CREATED:20260419T145857Z
LAST-MODIFIED:20260419T145857Z
UID:10041-1783157400-1783168200@dudleyfarm.com
SUMMARY:Historic Craft Demos Dudley Farm Summer 2026--Blacksmith Demonstration
DESCRIPTION:July 4\, 9:30-12:30 Blacksmith Demonstration \nCome see blacksmith Troy Antoniewicz of Copper Rose Forge hammering steel into hooks and other useful form at the Dudley Farm.  Hand forged items will also be for sale.
URL:https://dudleyfarm.com/event/historic-craft-demos-dudley-farm-summer-2026-blacksmith-demonstration/
LOCATION:Dudley Farm\, 2351 Durham Road\, Guilford\, CT\, 06437\, United States
END:VEVENT
BEGIN:VEVENT
DTSTART;TZID=America/New_York:20260711T093000
DTEND;TZID=America/New_York:20260711T123000
DTSTAMP:20260422T064317
CREATED:20260419T150042Z
LAST-MODIFIED:20260419T150111Z
UID:10043-1783762200-1783773000@dudleyfarm.com
SUMMARY:Historic Craft Demos Dudley Farm Summer 2026--Wool Spinning Demonstration
DESCRIPTION:July 11\, 9:30-12:30 Wool Spinning Demonstration \nCome see wool fleece from local sheep being spun into yard on antique wheels—a great wheel\, a flax wheel and a drop spindle.  Try it yourself\, too!
URL:https://dudleyfarm.com/event/historic-craft-demos-dudley-farm-summer-2026-wool-spinning-demonstration/
LOCATION:Dudley Farm\, 2351 Durham Road\, Guilford\, CT\, 06437\, United States
CATEGORIES:Arts & Crafts,History
END:VEVENT
BEGIN:VEVENT
DTSTART;TZID=America/New_York:20260718T093000
DTEND;TZID=America/New_York:20260718T123000
DTSTAMP:20260422T064317
CREATED:20260419T150307Z
LAST-MODIFIED:20260419T150307Z
UID:10045-1784367000-1784377800@dudleyfarm.com
SUMMARY:Historic Craft Demos Dudley Farm Summer 2026--Flintknapping and Atlatl Demonstration
DESCRIPTION:July 18\, 9:30-12:30 Flintknapping and Atlatl Demonstration \nCome see how Native Americans crafted stone points and other tools using a hammer stone and other tools. Then try your hand at throwing with a reproduction Atlatl
URL:https://dudleyfarm.com/event/historic-craft-demos-dudley-farm-summer-2026-flintknapping-and-atlatl-demonstration/
LOCATION:Dudley Farm\, 2351 Durham Road\, Guilford\, CT\, 06437\, United States
CATEGORIES:Arts & Crafts,History
END:VEVENT
BEGIN:VEVENT
DTSTART;TZID=America/New_York:20260719T130000
DTEND;TZID=America/New_York:20260719T150000
DTSTAMP:20260422T064317
CREATED:20260327T184340Z
LAST-MODIFIED:20260401T215006Z
UID:9953-1784466000-1784473200@dudleyfarm.com
SUMMARY:Traditional Herbs & Medicinal Plants
DESCRIPTION:Traditional Herbs & Medicinal Plants \nDate: July 19 from 1-3 \nSuggested Donation: $10 \nRegister Below ——-class size limited to 20 participants \nDescription: \nJoin Courtney Cucinotta from Talking Stick Herbal Therapies in North Branford for a medicinal herb walk at Dudley Farm. Summer hosts a great abundance of natural remedies for various ailments right in our yards. We will connect with the land and learn from the plants through touch\, taste and smell. We will discuss how to harvest to ensure the plants’ ongoing health and wellbeing. Courtney will share recipes and methods of preparation. Dress comfortably\, bring a water bottle\, notebook\, pen and a towel to sit on.
URL:https://dudleyfarm.com/event/traditional-herbs-medicinal-plants/
ATTACH;FMTTYPE=image/jpeg:https://dudleyfarm.com/wp-content/uploads/2026/03/courtney-cucinotta.jpg
END:VEVENT
BEGIN:VEVENT
DTSTART;TZID=America/New_York:20260725T093000
DTEND;TZID=America/New_York:20260725T123000
DTSTAMP:20260422T064317
CREATED:20260419T150508Z
LAST-MODIFIED:20260419T150508Z
UID:10047-1784971800-1784982600@dudleyfarm.com
SUMMARY:Historic Craft Demos Dudley Farm Summer 2026--Basketmaking Demonstration
DESCRIPTION:July 25\, 9:30-12:30 Basketmaking Demonstration \nCome see small\, useful baskets being woven and try it yourself!  Baskets were used by Native Americans and Nineteenth Century Farmers to carry and store food and other items.
URL:https://dudleyfarm.com/event/historic-craft-demos-dudley-farm-summer-2026-basketmaking-demonstration/
LOCATION:Dudley Farm\, 2351 Durham Road\, Guilford\, CT\, 06437\, United States
CATEGORIES:Arts & Crafts,History
END:VEVENT
END:VCALENDAR